BEGIN:VCALENDAR
VERSION:2.0
PRODID:spatie/icalendar-generator
DESCRIPTION:Events from Urbannola
X-WR-CALDESC:Events from Urbannola
REFRESH-INTERVAL;VALUE=DURATION:PT1440M
X-PUBLISHED-TTL:PT1440M
BEGIN:VTIMEZONE
TZID:America/Chicago
BEGIN:STANDARD
DTSTART:20241103T020000Z
TZOFFSETFROM:-0500
TZOFFSETTO:-0600
END:STANDARD
BEGIN:DAYLIGHT
DTSTART:20250309T020000Z
TZOFFSETFROM:-0600
TZOFFSETTO:-0500
END:DAYLIGHT
BEGIN:STANDARD
DTSTART:20251102T020000Z
TZOFFSETFROM:-0500
TZOFFSETTO:-0600
END:STANDARD
END:VTIMEZONE
BEGIN:VTIMEZONE
TZID:UTC
BEGIN:STANDARD
DTSTART:20250728T230810Z
TZOFFSETFROM:+0000
TZOFFSETTO:+0000
END:STANDARD
END:VTIMEZONE
BEGIN:VEVENT
UID:979-123
DTSTAMP:20260424T230810Z
SUMMARY:Zulu Anniversary Parade (Super Secondline)
LOCATION:
ORGANIZER;CN=urbannola:MAILTO:donnadugue@gmail.com
DTSTART;TZID=America/Chicago:20250518T123000
DTEND;TZID=America/Chicago:20250518T133000
X-ALT-DESC;FMTTYPE=TEXT/HTML:116TH ZULU ANNIVERSARY PARADE Sunday\, May 18\
 , 2025 Parade Formation: 11:30AM | Parade Starts: 12:30PM START Dew Drop I
 nn Hotel &amp;amp\; Lounge\, 2836 Lasalle St.\, New Orleans\, LA 70115 - ZULU 
 GOVERNOR 2026 CANDIDATE DENNIS LINEHAN - Coming Out: Grand Marshall &amp;amp\;
  Zulu Tramps\, STOP: Big Man Lounge\, 2916 Louisiana Ave.\, ZULU GOVERNOR 
 2026 CANDIDATE&amp;hellip\;
CATEGORIES:Secondline
URL;VALUE=URI:https://www.urbannola.com/mc-events/zulu-anniversary-parade-s
 uper-secondline/
METHOD:PUBLISH
END:VEVENT
END:VCALENDAR