BEGIN:VCALENDAR
VERSION:2.0
PRODID:spatie/icalendar-generator
DESCRIPTION:Events from Urbannola
X-WR-CALDESC:Events from Urbannola
REFRESH-INTERVAL;VALUE=DURATION:PT1440M
X-PUBLISHED-TTL:PT1440M
BEGIN:VTIMEZONE
TZID:America/Chicago
BEGIN:DAYLIGHT
DTSTART:20240310T020000Z
TZOFFSETFROM:-0600
TZOFFSETTO:-0500
END:DAYLIGHT
BEGIN:STANDARD
DTSTART:20241103T020000Z
TZOFFSETFROM:-0500
TZOFFSETTO:-0600
END:STANDARD
END:VTIMEZONE
BEGIN:VTIMEZONE
TZID:UTC
BEGIN:STANDARD
DTSTART:20250729T011301Z
TZOFFSETFROM:+0000
TZOFFSETTO:+0000
END:STANDARD
END:VTIMEZONE
BEGIN:VEVENT
UID:631-84
DTSTAMP:20260425T011301Z
SUMMARY:VOSM SECONDLINE
LOCATION:Uptown    New Orleans LA
ORGANIZER;CN=urbannola:MAILTO:donnadugue@gmail.com
DTSTART;TZID=America/Chicago:20240825T150000
DTEND;TZID=America/Chicago:20240825T160000
X-ALT-DESC;FMTTYPE=TEXT/HTML:40th Annual Parade Sunday\, August 25\, 2024 |
  3 PM | Start | Toasting Out: (Tapps) 2800 Rocheblave St. 70125 Continue l
 eft down Washington Ave. to Toledano St. | Stop | (Jazz It Up Lounge) Quee
 n Pickup U-Turn up Toledano St. | Left on Galvez St. to Jackson Ave. | Rig
 ht on Jackson Ave. |&amp;hellip\;
CATEGORIES:General
URL;VALUE=URI:https://www.urbannola.com/mc-events/vosm-secondline/
METHOD:PUBLISH
END:VEVENT
END:VCALENDAR