BEGIN:VCALENDAR
VERSION:2.0
PRODID:spatie/icalendar-generator
DESCRIPTION:Events from Urbannola
X-WR-CALDESC:Events from Urbannola
REFRESH-INTERVAL;VALUE=DURATION:PT1440M
X-PUBLISHED-TTL:PT1440M
BEGIN:VTIMEZONE
TZID:America/Chicago
BEGIN:DAYLIGHT
DTSTART:20240310T020000Z
TZOFFSETFROM:-0600
TZOFFSETTO:-0500
END:DAYLIGHT
BEGIN:STANDARD
DTSTART:20241103T020000Z
TZOFFSETFROM:-0500
TZOFFSETTO:-0600
END:STANDARD
BEGIN:DAYLIGHT
DTSTART:20250309T020000Z
TZOFFSETFROM:-0600
TZOFFSETTO:-0500
END:DAYLIGHT
END:VTIMEZONE
BEGIN:VTIMEZONE
TZID:UTC
BEGIN:STANDARD
DTSTART:20250728T204519Z
TZOFFSETFROM:+0000
TZOFFSETTO:+0000
END:STANDARD
END:VTIMEZONE
BEGIN:VEVENT
UID:62-35
DTSTAMP:20260424T204519Z
SUMMARY:Trap Wine Fest
LOCATION:Armstrong Park  701 N. Rampart St   New Orleans  LA  70116
ORGANIZER;CN=urbannola:MAILTO:donnadugue@gmail.com
DTSTART;TZID=America/Chicago:20240907T150000
DTEND;TZID=America/Chicago:20240907T200000
X-ALT-DESC;FMTTYPE=TEXT/HTML:Trap Wine Fest is coming to NOLA and it's abou
 t to GO DOWN!!!! Come entertain your Classy and Rachet sides at one FUN FI
 LLED event We have combined your two favorite things into one epic event. 
 (WINE AND TRAP MUSIC)  With 30 different wines to sip- Djs playing all th
 e Trap music hits-Trendy local chefs-&amp;hellip\;
CATEGORIES:General
URL;VALUE=URI:https://www.urbannola.com/mc-events/trap-wine-fest/
METHOD:PUBLISH
END:VEVENT
END:VCALENDAR