BEGIN:VCALENDAR
VERSION:2.0
PRODID:spatie/icalendar-generator
DESCRIPTION:Events from Urbannola
X-WR-CALDESC:Events from Urbannola
REFRESH-INTERVAL;VALUE=DURATION:PT1440M
X-PUBLISHED-TTL:PT1440M
BEGIN:VTIMEZONE
TZID:America/Chicago
BEGIN:DAYLIGHT
DTSTART:20240310T020000Z
TZOFFSETFROM:-0600
TZOFFSETTO:-0500
END:DAYLIGHT
BEGIN:STANDARD
DTSTART:20241103T020000Z
TZOFFSETFROM:-0500
TZOFFSETTO:-0600
END:STANDARD
BEGIN:DAYLIGHT
DTSTART:20250309T020000Z
TZOFFSETFROM:-0600
TZOFFSETTO:-0500
END:DAYLIGHT
END:VTIMEZONE
BEGIN:VTIMEZONE
TZID:UTC
BEGIN:STANDARD
DTSTART:20250728T162714Z
TZOFFSETFROM:+0000
TZOFFSETTO:+0000
END:STANDARD
END:VTIMEZONE
BEGIN:VEVENT
UID:745-96
DTSTAMP:20260424T162714Z
SUMMARY:SEAFOOD TUESDAY AT CEASARS
LOCATION:CEASARS 209 MONROE  GRETNA LA 70053
ORGANIZER;CN=urbannola:MAILTO:donnadugue@gmail.com
RRULE:FREQ=WEEKLY;UNTIL=20260901T000000Z
DTSTART;TZID=America/Chicago:20240910T200000
DTEND;TZID=America/Chicago:20240910T210000
X-ALT-DESC;FMTTYPE=TEXT/HTML:
CATEGORIES:General
URL;VALUE=URI:https://www.urbannola.com/mc-events/seafood-tuesday-at-ceasar
 s/?mc_id=745
METHOD:PUBLISH
END:VEVENT
END:VCALENDAR