BEGIN:VCALENDAR
VERSION:2.0
PRODID:spatie/icalendar-generator
DESCRIPTION:Events from Urbannola
X-WR-CALDESC:Events from Urbannola
REFRESH-INTERVAL;VALUE=DURATION:PT1440M
X-PUBLISHED-TTL:PT1440M
BEGIN:VTIMEZONE
TZID:America/Chicago
BEGIN:DAYLIGHT
DTSTART:20240310T020000Z
TZOFFSETFROM:-0600
TZOFFSETTO:-0500
END:DAYLIGHT
BEGIN:STANDARD
DTSTART:20241103T020000Z
TZOFFSETFROM:-0500
TZOFFSETTO:-0600
END:STANDARD
BEGIN:DAYLIGHT
DTSTART:20250309T020000Z
TZOFFSETFROM:-0600
TZOFFSETTO:-0500
END:DAYLIGHT
END:VTIMEZONE
BEGIN:VTIMEZONE
TZID:UTC
BEGIN:STANDARD
DTSTART:20250728T231931Z
TZOFFSETFROM:+0000
TZOFFSETTO:+0000
END:STANDARD
END:VTIMEZONE
BEGIN:VEVENT
UID:956-103
DTSTAMP:20260424T231931Z
SUMMARY:RIP Frankie Beverly Secondline
LOCATION:Hunter\\'s Field 1601 N. Claiborne   New Orleans  LA 70116
ORGANIZER;CN=urbannola:MAILTO:donnadugue@gmail.com
DTSTART;TZID=America/Chicago:20240916T183000
DTEND;TZID=America/Chicago:20240916T193000
X-ALT-DESC;FMTTYPE=TEXT/HTML:The 6th Ward Steppers are hosting an All-White
  Farewell Second Line in honor of  Frankie Beverly. The parade will start
  at Hunter's Field and end at the Candlelight Lounge.
CATEGORIES:General
URL;VALUE=URI:https://www.urbannola.com/mc-events/rip-frankie-beverly-secon
 dline/
METHOD:PUBLISH
END:VEVENT
END:VCALENDAR