BEGIN:VCALENDAR
VERSION:2.0
PRODID:spatie/icalendar-generator
DESCRIPTION:Events from Urbannola
X-WR-CALDESC:Events from Urbannola
REFRESH-INTERVAL;VALUE=DURATION:PT1440M
X-PUBLISHED-TTL:PT1440M
BEGIN:VTIMEZONE
TZID:America/Chicago
BEGIN:STANDARD
DTSTART:20241103T020000Z
TZOFFSETFROM:-0500
TZOFFSETTO:-0600
END:STANDARD
BEGIN:DAYLIGHT
DTSTART:20250309T020000Z
TZOFFSETFROM:-0600
TZOFFSETTO:-0500
END:DAYLIGHT
BEGIN:STANDARD
DTSTART:20251102T020000Z
TZOFFSETFROM:-0500
TZOFFSETTO:-0600
END:STANDARD
END:VTIMEZONE
BEGIN:VTIMEZONE
TZID:UTC
BEGIN:STANDARD
DTSTART:20250728T173431Z
TZOFFSETFROM:+0000
TZOFFSETTO:+0000
END:STANDARD
END:VTIMEZONE
BEGIN:VEVENT
UID:935-99
DTSTAMP:20260424T173431Z
SUMMARY:REGGAE NIGHTS
LOCATION:Treme Hideaway  1234 N. Claiborne   New Orleans  LA 70116
ORGANIZER;CN=urbannola:MAILTO:donnadugue@gmail.com
RRULE:FREQ=WEEKLY;UNTIL=20250920T000000Z
DTSTART;TZID=America/Chicago:20250517T210000
DTEND;TZID=America/Chicago:20250517T220000
X-ALT-DESC;FMTTYPE=TEXT/HTML:
CATEGORIES:General
URL;VALUE=URI:https://www.urbannola.com/mc-events/reggae-nights/?mc_id=935
METHOD:PUBLISH
END:VEVENT
END:VCALENDAR