BEGIN:VCALENDAR
VERSION:2.0
PRODID:spatie/icalendar-generator
DESCRIPTION:Events from Urbannola
X-WR-CALDESC:Events from Urbannola
REFRESH-INTERVAL;VALUE=DURATION:PT1440M
X-PUBLISHED-TTL:PT1440M
BEGIN:VTIMEZONE
TZID:America/Chicago
BEGIN:DAYLIGHT
DTSTART:20240310T020000Z
TZOFFSETFROM:-0600
TZOFFSETTO:-0500
END:DAYLIGHT
BEGIN:STANDARD
DTSTART:20241103T020000Z
TZOFFSETFROM:-0500
TZOFFSETTO:-0600
END:STANDARD
BEGIN:DAYLIGHT
DTSTART:20250309T020000Z
TZOFFSETFROM:-0600
TZOFFSETTO:-0500
END:DAYLIGHT
END:VTIMEZONE
BEGIN:VTIMEZONE
TZID:UTC
BEGIN:STANDARD
DTSTART:20250729T034108Z
TZOFFSETFROM:+0000
TZOFFSETTO:+0000
END:STANDARD
END:VTIMEZONE
BEGIN:VEVENT
UID:60-33
DTSTAMP:20260425T034108Z
SUMMARY:New Orleans Seafood and Carribbean Music Festival
LOCATION:Riverwalk  1 Canal St   New Orleans  LA  70130
ORGANIZER;CN=urbannola:MAILTO:donnadugue@gmail.com
RRULE:FREQ=DAILY;UNTIL=20241027T000000Z
DTSTART;TZID=America/Chicago:20241026T120000
DTEND;TZID=America/Chicago:20241026T220000
X-ALT-DESC;FMTTYPE=TEXT/HTML:The New Orleans Seafood and Caribbean Music Fe
 stival is scheduled to take place on October 26th &amp;amp\; 27th TWO DAY EVEN
 T at Woldenberg Park in New Orleans. The event will feature live music and
  DJs and will offer a variety of seafood and Caribbean dishes for attendee
 s to enjoy. General admission tickets are available along&amp;hellip\;
CATEGORIES:General
URL;VALUE=URI:https://www.urbannola.com/mc-events/new-orleans-seafood-and-c
 arribbean-music-festival/?mc_id=60
METHOD:PUBLISH
END:VEVENT
END:VCALENDAR