BEGIN:VCALENDAR
VERSION:2.0
PRODID:spatie/icalendar-generator
DESCRIPTION:Events from Urbannola
X-WR-CALDESC:Events from Urbannola
REFRESH-INTERVAL;VALUE=DURATION:PT1440M
X-PUBLISHED-TTL:PT1440M
BEGIN:VTIMEZONE
TZID:America/Chicago
BEGIN:STANDARD
DTSTART:20241103T020000Z
TZOFFSETFROM:-0500
TZOFFSETTO:-0600
END:STANDARD
BEGIN:DAYLIGHT
DTSTART:20250309T020000Z
TZOFFSETFROM:-0600
TZOFFSETTO:-0500
END:DAYLIGHT
END:VTIMEZONE
BEGIN:VTIMEZONE
TZID:UTC
BEGIN:STANDARD
DTSTART:20250729T024103Z
TZOFFSETFROM:+0000
TZOFFSETTO:+0000
END:STANDARD
END:VTIMEZONE
BEGIN:VEVENT
UID:58-31
DTSTAMP:20260425T024103Z
SUMMARY:Kermit Ruffin's 60th Birthday Party
LOCATION:House of Blues  225 Decatur   New Orleans  LA  70130
ORGANIZER;CN=urbannola:MAILTO:donnadugue@gmail.com
DTSTART;TZID=America/Chicago:20241205T200000
DTEND;TZID=America/Chicago:20241205T210000
X-ALT-DESC;FMTTYPE=TEXT/HTML:Birthday Bash of the year! Kermits 60th Birthd
 ay Party at the House of Blues New Orleans Louisiana December 5th. Make re
 servations and let's fly down/drive down to New Orleans\, tickets go on sa
 le June 14. Get your tickets fast. Music by Kermit Ruffins and the BBQ Swi
 ngers and of course\, lots of special guests also&amp;hellip\;
CATEGORIES:General
URL;VALUE=URI:https://www.urbannola.com/mc-events/kermit-ruffins-60th-birth
 day-party/
METHOD:PUBLISH
END:VEVENT
END:VCALENDAR