BEGIN:VCALENDAR
VERSION:2.0
PRODID:spatie/icalendar-generator
DESCRIPTION:Events from Urbannola
X-WR-CALDESC:Events from Urbannola
REFRESH-INTERVAL;VALUE=DURATION:PT1440M
X-PUBLISHED-TTL:PT1440M
BEGIN:VTIMEZONE
TZID:America/Chicago
BEGIN:STANDARD
DTSTART:20251102T020000Z
TZOFFSETFROM:-0500
TZOFFSETTO:-0600
END:STANDARD
BEGIN:DAYLIGHT
DTSTART:20260308T020000Z
TZOFFSETFROM:-0600
TZOFFSETTO:-0500
END:DAYLIGHT
BEGIN:STANDARD
DTSTART:20261101T020000Z
TZOFFSETFROM:-0500
TZOFFSETTO:-0600
END:STANDARD
END:VTIMEZONE
BEGIN:VTIMEZONE
TZID:UTC
BEGIN:STANDARD
DTSTART:20250728T151102Z
TZOFFSETFROM:+0000
TZOFFSETTO:+0000
END:STANDARD
END:VTIMEZONE
BEGIN:VEVENT
UID:728-95
DTSTAMP:20260424T151102Z
SUMMARY:JUVIE TUESDAYS
LOCATION:Treme Hideaway  1234 N. Claiborne   New Orleans  LA 70116
ORGANIZER;CN=urbannola:MAILTO:donnadugue@gmail.com
RRULE:FREQ=WEEKLY;UNTIL=20260901T000000Z
DTSTART;TZID=America/Chicago:20260505T200000
DTEND;TZID=America/Chicago:20260505T210000
X-ALT-DESC;FMTTYPE=TEXT/HTML:
CATEGORIES:General
URL;VALUE=URI:https://www.urbannola.com/mc-events/juvie-tuesdays/?mc_id=728
METHOD:PUBLISH
END:VEVENT
END:VCALENDAR