BEGIN:VCALENDAR
VERSION:2.0
PRODID:spatie/icalendar-generator
DESCRIPTION:Events from Urbannola
X-WR-CALDESC:Events from Urbannola
REFRESH-INTERVAL;VALUE=DURATION:PT1440M
X-PUBLISHED-TTL:PT1440M
BEGIN:VTIMEZONE
TZID:America/Chicago
BEGIN:STANDARD
DTSTART:20241103T020000Z
TZOFFSETFROM:-0500
TZOFFSETTO:-0600
END:STANDARD
BEGIN:DAYLIGHT
DTSTART:20250309T020000Z
TZOFFSETFROM:-0600
TZOFFSETTO:-0500
END:DAYLIGHT
BEGIN:STANDARD
DTSTART:20251102T020000Z
TZOFFSETFROM:-0500
TZOFFSETTO:-0600
END:STANDARD
END:VTIMEZONE
BEGIN:VTIMEZONE
TZID:UTC
BEGIN:STANDARD
DTSTART:20250728T202719Z
TZOFFSETFROM:+0000
TZOFFSETTO:+0000
END:STANDARD
END:VTIMEZONE
BEGIN:VEVENT
UID:978-122
DTSTAMP:20260424T202719Z
SUMMARY:Divine Ladies Secondline
LOCATION:
ORGANIZER;CN=urbannola:MAILTO:donnadugue@gmail.com
DTSTART;TZID=America/Chicago:20250518T123000
DTEND;TZID=America/Chicago:20250518T170000
X-ALT-DESC;FMTTYPE=TEXT/HTML:Sunday\, May 18\, 2025 Formation: 12 pm  star
 t : 12.30pm * START FROM A DIFFERENT SCENERY: CHAMPION SQUARE at The Caesa
 rs Superdome. Proceed out Poydras to Loyola Ave. Proceed down to Simon Bol
 ivar Ave. STOP: Martin Luther King\, Jr. Blvd. &amp;amp\; Simon Bolivar Ave. (
 SPONSORED BY MB.J). Proceed Simon Bolivar Ave. t o Jackson Ave.&amp;hellip\;
CATEGORIES:Secondline
URL;VALUE=URI:https://www.urbannola.com/mc-events/divine-ladies-secondline-
 2/
METHOD:PUBLISH
END:VEVENT
END:VCALENDAR