BEGIN:VCALENDAR
VERSION:2.0
PRODID:spatie/icalendar-generator
DESCRIPTION:Events from Urbannola
X-WR-CALDESC:Events from Urbannola
REFRESH-INTERVAL;VALUE=DURATION:PT1440M
X-PUBLISHED-TTL:PT1440M
BEGIN:VTIMEZONE
TZID:America/Chicago
BEGIN:DAYLIGHT
DTSTART:20240310T020000Z
TZOFFSETFROM:-0600
TZOFFSETTO:-0500
END:DAYLIGHT
BEGIN:STANDARD
DTSTART:20241103T020000Z
TZOFFSETFROM:-0500
TZOFFSETTO:-0600
END:STANDARD
BEGIN:DAYLIGHT
DTSTART:20250309T020000Z
TZOFFSETFROM:-0600
TZOFFSETTO:-0500
END:DAYLIGHT
END:VTIMEZONE
BEGIN:VTIMEZONE
TZID:UTC
BEGIN:STANDARD
DTSTART:20250728T234558Z
TZOFFSETFROM:+0000
TZOFFSETTO:+0000
END:STANDARD
END:VTIMEZONE
BEGIN:VEVENT
UID:61-34
DTSTAMP:20260424T234558Z
SUMMARY:Beignet Fest
LOCATION:City Park Festival Grounds  1 Palm Dr.   New Orleans  LA 70124
ORGANIZER;CN=urbannola:MAILTO:donnadugue@gmail.com
DTSTART;TZID=America/Chicago:20241116T100000
DTEND;TZID=America/Chicago:20241116T180000
X-ALT-DESC;FMTTYPE=TEXT/HTML:Another year\, another Beignet Fest at the Fes
 tival Grounds at New Orleans City Park. So\, bring your appetite and fill 
 up on delicious\, decadent delicacies from traditional sweet treats covere
 d in powdered sugar to savory options bursting with seafood\, cheese and m
 ore. In addition to the dozens of different beignet dishes from some of Ne
 w&amp;hellip\;
CATEGORIES:General
URL;VALUE=URI:https://www.urbannola.com/mc-events/beignet-fest/
METHOD:PUBLISH
END:VEVENT
END:VCALENDAR